BEGIN:VCALENDAR
VERSION:2.0
PRODID:-//Word of Life Worship Center - ECPv6.15.20//NONSGML v1.0//EN
CALSCALE:GREGORIAN
METHOD:PUBLISH
X-WR-CALNAME:Word of Life Worship Center
X-ORIGINAL-URL:https://wordoflifewctv.com
X-WR-CALDESC:Events for Word of Life Worship Center
REFRESH-INTERVAL;VALUE=DURATION:PT1H
X-Robots-Tag:noindex
X-PUBLISHED-TTL:PT1H
BEGIN:VTIMEZONE
TZID:America/Los_Angeles
BEGIN:DAYLIGHT
TZOFFSETFROM:-0800
TZOFFSETTO:-0700
TZNAME:PDT
DTSTART:20170312T100000
END:DAYLIGHT
BEGIN:STANDARD
TZOFFSETFROM:-0700
TZOFFSETTO:-0800
TZNAME:PST
DTSTART:20171105T090000
END:STANDARD
BEGIN:DAYLIGHT
TZOFFSETFROM:-0800
TZOFFSETTO:-0700
TZNAME:PDT
DTSTART:20180311T100000
END:DAYLIGHT
BEGIN:STANDARD
TZOFFSETFROM:-0700
TZOFFSETTO:-0800
TZNAME:PST
DTSTART:20181104T090000
END:STANDARD
BEGIN:DAYLIGHT
TZOFFSETFROM:-0800
TZOFFSETTO:-0700
TZNAME:PDT
DTSTART:20190310T100000
END:DAYLIGHT
BEGIN:STANDARD
TZOFFSETFROM:-0700
TZOFFSETTO:-0800
TZNAME:PST
DTSTART:20191103T090000
END:STANDARD
BEGIN:DAYLIGHT
TZOFFSETFROM:-0800
TZOFFSETTO:-0700
TZNAME:PDT
DTSTART:20200308T100000
END:DAYLIGHT
BEGIN:STANDARD
TZOFFSETFROM:-0700
TZOFFSETTO:-0800
TZNAME:PST
DTSTART:20201101T090000
END:STANDARD
BEGIN:DAYLIGHT
TZOFFSETFROM:-0800
TZOFFSETTO:-0700
TZNAME:PDT
DTSTART:20210314T100000
END:DAYLIGHT
BEGIN:STANDARD
TZOFFSETFROM:-0700
TZOFFSETTO:-0800
TZNAME:PST
DTSTART:20211107T090000
END:STANDARD
BEGIN:DAYLIGHT
TZOFFSETFROM:-0800
TZOFFSETTO:-0700
TZNAME:PDT
DTSTART:20220313T100000
END:DAYLIGHT
BEGIN:STANDARD
TZOFFSETFROM:-0700
TZOFFSETTO:-0800
TZNAME:PST
DTSTART:20221106T090000
END:STANDARD
BEGIN:DAYLIGHT
TZOFFSETFROM:-0800
TZOFFSETTO:-0700
TZNAME:PDT
DTSTART:20230312T100000
END:DAYLIGHT
BEGIN:STANDARD
TZOFFSETFROM:-0700
TZOFFSETTO:-0800
TZNAME:PST
DTSTART:20231105T090000
END:STANDARD
BEGIN:DAYLIGHT
TZOFFSETFROM:-0800
TZOFFSETTO:-0700
TZNAME:PDT
DTSTART:20240310T100000
END:DAYLIGHT
BEGIN:STANDARD
TZOFFSETFROM:-0700
TZOFFSETTO:-0800
TZNAME:PST
DTSTART:20241103T090000
END:STANDARD
END:VTIMEZONE
BEGIN:VEVENT
DTSTART;TZID=America/Los_Angeles:20230722T100000
DTEND;TZID=America/Los_Angeles:20230722T113000
DTSTAMP:20260423T132638
CREATED:20230710T195951Z
LAST-MODIFIED:20230710T195951Z
UID:3558-1690020000-1690025400@wordoflifewctv.com
SUMMARY:Outreach Training
DESCRIPTION:The fruit of the righteous is a tree of life; And he that winneth souls is wise. Proverbs 11:30 KJV \nJoin us as we equip the saints to win the lost.
URL:https://wordoflifewctv.com/event/outreach-training/
LOCATION:Word of Life Worship Center Temecula Valley\, 30033 Technology Dr. Suite 101\, Murrieta\, CA\, 92563\, United States
ATTACH;FMTTYPE=image/png:https://wordoflifewctv.com/wp-content/uploads/2020/01/Outreach-photo.png
END:VEVENT
BEGIN:VEVENT
DTSTART;TZID=America/Los_Angeles:20230617T110000
DTEND;TZID=America/Los_Angeles:20230617T170000
DTSTAMP:20260423T132638
CREATED:20230605T173844Z
LAST-MODIFIED:20230605T173844Z
UID:3523-1686999600-1687021200@wordoflifewctv.com
SUMMARY:Church Picnic
DESCRIPTION:Join us for an awesome time of fellowship.  There will be lots of food\, fun and games for children and adults.  Family and friends are welcome. \n 
URL:https://wordoflifewctv.com/event/church-picnic/
LOCATION:Bella Vista Park\, 31757 Browning St\, Murrieta\, CA\, 92563\, United States
END:VEVENT
BEGIN:VEVENT
DTSTART;TZID=America/Los_Angeles:20230506T093000
DTEND;TZID=America/Los_Angeles:20230506T103000
DTSTAMP:20260423T132638
CREATED:20190715T061740Z
LAST-MODIFIED:20230501T180406Z
UID:1432-1683365400-1683369000@wordoflifewctv.com
SUMMARY:PRAYER MEETING
DESCRIPTION:Join us as we seek the Lord for great things in prayer. Prayer changes things and without prayer things don’t change.
URL:https://wordoflifewctv.com/event/prayer-meeting/
LOCATION:Word of Life Worship Center Temecula Valley\, 30033 Technology Dr. Suite 101\, Murrieta\, CA\, 92563\, United States
ATTACH;FMTTYPE=image/png:https://wordoflifewctv.com/wp-content/uploads/2022/12/SATURDAY-930-AM.png
END:VEVENT
BEGIN:VEVENT
DTSTART;TZID=America/Los_Angeles:20220817T190000
DTEND;TZID=America/Los_Angeles:20220819T210000
DTSTAMP:20260423T132638
CREATED:20220804T184258Z
LAST-MODIFIED:20220810T165416Z
UID:3220-1660762800-1660942800@wordoflifewctv.com
SUMMARY:WOL Conference
DESCRIPTION:All Church Conference.  Register at www.wlwc.org
URL:https://wordoflifewctv.com/event/wol-conference/
LOCATION:Word of Life Worship Center – La Mesa\, 8691 Echo Drive\, La Mesa\, CA\, 91941\, United States
END:VEVENT
BEGIN:VEVENT
DTSTART;TZID=America/Los_Angeles:20220716T090000
DTEND;TZID=America/Los_Angeles:20220716T150000
DTSTAMP:20260423T132638
CREATED:20190527T015613Z
LAST-MODIFIED:20220707T203124Z
UID:1391-1657962000-1657983600@wordoflifewctv.com
SUMMARY:All Church Baptism
DESCRIPTION:Come out for a great time of fellowship with our family of churches. We will baptize those who would like to be baptized and enjoy lots of food and fun throughout the day.
URL:https://wordoflifewctv.com/event/all-church-baptism-2/
LOCATION:Bonita Cove\, 1100 W Mission Bay Dr.\, San Diego\, Ca\, 92109\, United States
END:VEVENT
BEGIN:VEVENT
DTSTART;TZID=America/Los_Angeles:20220430T083000
DTEND;TZID=America/Los_Angeles:20220430T103000
DTSTAMP:20260423T132638
CREATED:20220217T173922Z
LAST-MODIFIED:20220328T165004Z
UID:3054-1651307400-1651314600@wordoflifewctv.com
SUMMARY:MEN'S BREAKFAST
DESCRIPTION:Join us for a powerful time of fellowship.  “Iron sharpens iron: So a man sharpens the countenance of his friends” Proverbs 27:17
URL:https://wordoflifewctv.com/event/mens-breakfast-2/
LOCATION:Richie’s Dinner\, 40651 Murrieta Hot Springs Road\, Murrieta\, CA\, 92562\, United States
ATTACH;FMTTYPE=image/png:https://wordoflifewctv.com/wp-content/uploads/2020/01/Mens-Roundtable.png
END:VEVENT
BEGIN:VEVENT
DTSTART;TZID=America/Los_Angeles:20211223T190000
DTEND;TZID=America/Los_Angeles:20211223T210000
DTSTAMP:20260423T132638
CREATED:20211213T172454Z
LAST-MODIFIED:20211213T172454Z
UID:2919-1640286000-1640293200@wordoflifewctv.com
SUMMARY:WOL All Church Christmas Celebration Service
DESCRIPTION:We will be having an all church Christmas celebration service at our mother church in La Mesa Ca.  All are welcome.  Join us as we fellowship and rejoice with all of our local Word of Life Churches.
URL:https://wordoflifewctv.com/event/wol-all-church-christmas-celebration-service/
LOCATION:Word of Life Worship Center – La Mesa\, 8691 Echo Drive\, La Mesa\, CA\, 91941\, United States
END:VEVENT
BEGIN:VEVENT
DTSTART;TZID=America/Los_Angeles:20211218T170000
DTEND;TZID=America/Los_Angeles:20211218T200000
DTSTAMP:20260423T132638
CREATED:20211213T173143Z
LAST-MODIFIED:20211213T173143Z
UID:2922-1639846800-1639857600@wordoflifewctv.com
SUMMARY:Christmas Party - Potluck
DESCRIPTION:Join us for a wonderful time of fellowship and fun as we celebrate the birth of our savior.  Please sign up in the church foyer.
URL:https://wordoflifewctv.com/event/christmas-party-potluck/
LOCATION:Word of Life Worship Center Temecula Valley\, 30033 Technology Dr. Suite 101\, Murrieta\, CA\, 92563\, United States
END:VEVENT
BEGIN:VEVENT
DTSTART;TZID=America/Los_Angeles:20211114T100000
DTEND;TZID=America/Los_Angeles:20211114T120000
DTSTAMP:20260423T132638
CREATED:20211021T180831Z
LAST-MODIFIED:20211021T181223Z
UID:2867-1636884000-1636891200@wordoflifewctv.com
SUMMARY:Miracle Healing Service With Pastor T.L. Miller
DESCRIPTION:Join us for a dynamic time of healing and deliverance.  Invite your family and friends.  God’s power will be moving and lives will be transformed.
URL:https://wordoflifewctv.com/event/miracle-healing-service-with-pastor-t-l-miller/
LOCATION:Word of Life Worship Center Temecula Valley\, 30033 Technology Dr. Suite 101\, Murrieta\, CA\, 92563\, United States
END:VEVENT
BEGIN:VEVENT
DTSTART;TZID=America/Los_Angeles:20210501T080000
DTEND;TZID=America/Los_Angeles:20210501T093000
DTSTAMP:20260423T132638
CREATED:20200302T063014Z
LAST-MODIFIED:20210604T224434Z
UID:1934-1619856000-1619861400@wordoflifewctv.com
SUMMARY:Faith Wakers Women's Group
DESCRIPTION:Join us for fellowship and exercise as we ” walk by faith and not by sight”.  All women are welcome.  We will be meeting at the church at 8 am. \n  \n 
URL:https://wordoflifewctv.com/event/faith-wakers-womens-group/
LOCATION:Word of Life Worship Center Temecula Valley\, 30033 Technology Dr. Suite 101\, Murrieta\, CA\, 92563\, United States
END:VEVENT
BEGIN:VEVENT
DTSTART;TZID=America/Los_Angeles:20210104T190000
DTEND;TZID=America/Los_Angeles:20210104T200000
DTSTAMP:20260423T132638
CREATED:20210104T194733Z
LAST-MODIFIED:20210104T194733Z
UID:2486-1609786800-1609790400@wordoflifewctv.com
SUMMARY:All Church Prayer
DESCRIPTION:
URL:https://wordoflifewctv.com/event/all-church-prayer/
LOCATION:Word of Life Worship Center Temecula Valley\, 30033 Technology Dr. Suite 101\, Murrieta\, CA\, 92563\, United States
END:VEVENT
BEGIN:VEVENT
DTSTART;TZID=America/Los_Angeles:20201215T190000
DTEND;TZID=America/Los_Angeles:20201215T203000
DTSTAMP:20260423T132638
CREATED:20200121T200442Z
LAST-MODIFIED:20201203T205047Z
UID:1807-1608058800-1608064200@wordoflifewctv.com
SUMMARY:MEN'S ROUNDTABLE
DESCRIPTION:Iron sharpens iron; so a man sharpens the countenance of his friend. (Proverbs 27:17)\nJoin us as we grow and get stronger together. 7pm 1st and 3rd Tuesday of every month.
URL:https://wordoflifewctv.com/event/mens-roundtable/
LOCATION:Word of Life Worship Center Temecula Valley\, 30033 Technology Dr. Suite 101\, Murrieta\, CA\, 92563\, United States
ATTACH;FMTTYPE=image/png:https://wordoflifewctv.com/wp-content/uploads/2020/01/Mens-Roundtable.png
END:VEVENT
BEGIN:VEVENT
DTSTART;TZID=America/Los_Angeles:20201211T190000
DTEND;TZID=America/Los_Angeles:20201211T203000
DTSTAMP:20260423T132638
CREATED:20201207T220442Z
LAST-MODIFIED:20201207T220442Z
UID:2434-1607713200-1607718600@wordoflifewctv.com
SUMMARY:Worship Night
DESCRIPTION:Come worship the Lord with us.  Worship breaks down walls and welcomes the manifested power of God.  “God is a Spirit and they that worship Him must worship Him in spirit and in truth.”  (John 4:24)
URL:https://wordoflifewctv.com/event/worship-night/
LOCATION:Word of Life Worship Center Temecula Valley\, 30033 Technology Dr. Suite 101\, Murrieta\, CA\, 92563\, United States
ATTACH;FMTTYPE=image/jpeg:https://wordoflifewctv.com/wp-content/uploads/2020/03/Pastors-Troy-and-Kim-Worshiping.jpg
END:VEVENT
BEGIN:VEVENT
DTSTART;TZID=America/Los_Angeles:20200229T190000
DTEND;TZID=America/Los_Angeles:20200229T210000
DTSTAMP:20260423T132638
CREATED:20200120T195631Z
LAST-MODIFIED:20200218T173833Z
UID:1796-1583002800-1583010000@wordoflifewctv.com
SUMMARY:LEVEL UP YOUTH SERVICE
DESCRIPTION:Our youth will be heading down to San Diego for a powerful youth service with our other Word of Life churches.  Please sign up in the church foyer on Wednesday.  Carpool arraignments will be made.
URL:https://wordoflifewctv.com/event/level-up-youth-service/
LOCATION:Word of Life Worship Center – La Mesa\, 8691 Echo Drive\, La Mesa\, CA\, 91941\, United States
ATTACH;FMTTYPE=image/jpeg:https://wordoflifewctv.com/wp-content/uploads/2020/01/LEVEL-UP-YOUTH-SERVICE.jpg
END:VEVENT
BEGIN:VEVENT
DTSTART;TZID=America/Los_Angeles:20200106T193000
DTEND;TZID=America/Los_Angeles:20200111T203000
DTSTAMP:20260423T132638
CREATED:20200107T194911Z
LAST-MODIFIED:20200107T194911Z
UID:1765-1578339000-1578774600@wordoflifewctv.com
SUMMARY:Prayer and Fasting Week
DESCRIPTION:Meet at church 7:30-8:30pm Monday thru Saturday for corporate prayer.
URL:https://wordoflifewctv.com/event/prayer-and-fasting-week/
LOCATION:Word of Life Worship Center Temecula Valley\, 30033 Technology Dr. Suite 101\, Murrieta\, CA\, 92563\, United States
END:VEVENT
BEGIN:VEVENT
DTSTART;TZID=America/Los_Angeles:20191222T100000
DTEND;TZID=America/Los_Angeles:20191222T120000
DTSTAMP:20260423T132638
CREATED:20191217T175203Z
LAST-MODIFIED:20191217T180546Z
UID:1735-1577008800-1577016000@wordoflifewctv.com
SUMMARY:Christmas Service/Christmas Play
DESCRIPTION:Join us for a powerful service as we celebrate the birth of our savior.  Our youth and children will be performing in our Christmas play during the service.
URL:https://wordoflifewctv.com/event/christmas-service-christmas-play/
LOCATION:CA
END:VEVENT
BEGIN:VEVENT
DTSTART;TZID=America/Los_Angeles:20191213T190000
DTEND;TZID=America/Los_Angeles:20191213T210000
DTSTAMP:20260423T132638
CREATED:20191205T194701Z
LAST-MODIFIED:20191205T194805Z
UID:1715-1576263600-1576270800@wordoflifewctv.com
SUMMARY:Ugly Sweater Christmas Party - Potluck
DESCRIPTION:Join us for a great time of fun and fellowship.  Bring your favorite dish and wear your ugliest sweater.  Sign up in the church foyer.
URL:https://wordoflifewctv.com/event/ugly-sweater-christmas-party-potluck/
LOCATION:Word of Life Worship Center Temecula Valley\, 30033 Technology Dr. Suite 101\, Murrieta\, CA\, 92563\, United States
END:VEVENT
BEGIN:VEVENT
DTSTART;TZID=America/Los_Angeles:20191012T180000
DTEND;TZID=America/Los_Angeles:20191012T203000
DTSTAMP:20260423T132638
CREATED:20190926T180639Z
LAST-MODIFIED:20190926T181010Z
UID:1543-1570903200-1570912200@wordoflifewctv.com
SUMMARY:Bowling Fellowship
DESCRIPTION:Join us for a powerful time of fun and fellowship.  Please sign up in the church foyer.
URL:https://wordoflifewctv.com/event/bowling-fellowship/
LOCATION:Pins and Pockets\, 32250 Mission Trail\, Lake Elsinore\, CA\, 92530\, United States
END:VEVENT
BEGIN:VEVENT
DTSTART;TZID=America/Los_Angeles:20190831T115000
DTEND;TZID=America/Los_Angeles:20190831T143000
DTSTAMP:20260423T132638
CREATED:20190307T165600Z
LAST-MODIFIED:20190819T035036Z
UID:1240-1567252200-1567261800@wordoflifewctv.com
SUMMARY:Movie Fellowship
DESCRIPTION:Join us as we go see the Christian movie – Overcomer.  This will be an awesome time of fun and fellowship with our church family.\nSign up in the church foyer.  Movie time and ticket price will be on the sign up sheet.
URL:https://wordoflifewctv.com/event/movie-fellowship/
LOCATION:Reading Cinemas\, 41090 California Oaks Rd.\, Murrieta\, CA\, 92562\, United States
END:VEVENT
BEGIN:VEVENT
DTSTART;TZID=America/Los_Angeles:20190816T190000
DTEND;TZID=America/Los_Angeles:20190816T210000
DTSTAMP:20260423T132638
CREATED:20190527T020359Z
LAST-MODIFIED:20190729T180107Z
UID:1394-1565982000-1565989200@wordoflifewctv.com
SUMMARY:All Church Fellowship Service
DESCRIPTION:Join us for a powerful time of praise\, word\, and fellowship with our Word of Life family of churches.
URL:https://wordoflifewctv.com/event/all-church-fellowship-service/
LOCATION:Word of Life Worship Center – La Mesa\, 8691 Echo Drive\, La Mesa\, CA\, 91941\, United States
END:VEVENT
BEGIN:VEVENT
DTSTART;TZID=America/Los_Angeles:20190525T120000
DTEND;TZID=America/Los_Angeles:20190525T150000
DTSTAMP:20260423T132638
CREATED:20190506T035536Z
LAST-MODIFIED:20190506T035536Z
UID:1368-1558785600-1558796400@wordoflifewctv.com
SUMMARY:Park Outreach
DESCRIPTION:Join us as we reach out to the community sharing the love of Jesus.
URL:https://wordoflifewctv.com/event/park-outreach/
LOCATION:Cal Oaks Sports Park\, 40600 California Oaks Rd\, Murrieta\, CA\, 92562\, United States
END:VEVENT
BEGIN:VEVENT
DTSTART;TZID=America/Los_Angeles:20190427T090000
DTEND;TZID=America/Los_Angeles:20190427T150000
DTSTAMP:20260423T132638
CREATED:20190411T155244Z
LAST-MODIFIED:20190411T155244Z
UID:1302-1556355600-1556377200@wordoflifewctv.com
SUMMARY:Women's Conference
DESCRIPTION:Come out for a powerful time of fellowship with the women of Word of Life.\nSign up in the church foyer
URL:https://wordoflifewctv.com/event/womens-conference/
LOCATION:Anchors Catering and Conference\, 2375 Recreation Way. Bldg 3210\, San Diego\, CA\, 92136\, United States
END:VEVENT
BEGIN:VEVENT
DTSTART;TZID=America/Los_Angeles:20190405T120000
DTEND;TZID=America/Los_Angeles:20190406T170000
DTSTAMP:20260423T132638
CREATED:20190207T160708Z
LAST-MODIFIED:20190307T161526Z
UID:1201-1554465600-1554570000@wordoflifewctv.com
SUMMARY:Men's Retreat
DESCRIPTION:This will be a powerful time of fellowship and spiritual growth for men.\nIron sharpens iron; so a man sharpens the countenance of his friend. (Proverbs 27:17) \nSign up in the foyer \n111 per person – includes all meals and lodging.
URL:https://wordoflifewctv.com/event/mens-retreat/
LOCATION:Forest Home\, 40000 Valley of the Falls Dr.\, Forest Falls\, CA\, United States
END:VEVENT
BEGIN:VEVENT
DTSTART;TZID=America/Los_Angeles:20190323T090000
DTEND;TZID=America/Los_Angeles:20190323T110000
DTSTAMP:20260423T132638
CREATED:20190307T163917Z
LAST-MODIFIED:20190307T163917Z
UID:1234-1553331600-1553338800@wordoflifewctv.com
SUMMARY:Men's Breakfast
DESCRIPTION:Men come out for a powerful time of fellowship.  We are stronger together!\nTwo people are better than one\, for they can help each other succeed.  If one person falls\, the other can reach out and help.  But someone who falls alone is in real trouble. (Ecclesiastes 4:9-10 NLT)
URL:https://wordoflifewctv.com/event/mens-breakfast/
LOCATION:Richie’s Dinner\, 40651 Murrieta Hot Springs Road\, Murrieta\, CA\, 92562\, United States
END:VEVENT
BEGIN:VEVENT
DTSTART;TZID=America/Los_Angeles:20190316T093000
DTEND;TZID=America/Los_Angeles:20190316T113000
DTSTAMP:20260423T132638
CREATED:20190307T164505Z
LAST-MODIFIED:20190307T164619Z
UID:1237-1552728600-1552735800@wordoflifewctv.com
SUMMARY:Neighborhood Outreach
DESCRIPTION:Join us as we share the love of Jesus with our community.
URL:https://wordoflifewctv.com/event/nieghborhood-outreach/
LOCATION:Word of Life Worship Center Temecula Valley\, 30033 Technology Dr. Suite 101\, Murrieta\, CA\, 92563\, United States
END:VEVENT
BEGIN:VEVENT
DTSTART;TZID=America/Los_Angeles:20190223T090000
DTEND;TZID=America/Los_Angeles:20190223T140000
DTSTAMP:20260423T132638
CREATED:20190131T153403Z
LAST-MODIFIED:20190131T153403Z
UID:1190-1550912400-1550930400@wordoflifewctv.com
SUMMARY:Women's Fellowship
DESCRIPTION:Sign up in the foyer.\nMeet @ church the day of the event.  The ladies will carpool to the event location. \nThis will be a great time of fun and fellowship.
URL:https://wordoflifewctv.com/event/womens-fellowship/
LOCATION:Word of Life Worship Center Temecula Valley\, 30033 Technology Dr. Suite 101\, Murrieta\, CA\, 92563\, United States
END:VEVENT
BEGIN:VEVENT
DTSTART;TZID=America/Los_Angeles:20190209T090000
DTEND;TZID=America/Los_Angeles:20190209T120000
DTSTAMP:20260423T132638
CREATED:20190128T234020Z
LAST-MODIFIED:20190128T234020Z
UID:1185-1549702800-1549713600@wordoflifewctv.com
SUMMARY:Outreach
DESCRIPTION:
URL:https://wordoflifewctv.com/event/outreach-2/
LOCATION:Word of Life Worship Center Temecula Valley\, 30033 Technology Dr. Suite 101\, Murrieta\, CA\, 92563\, United States
END:VEVENT
BEGIN:VEVENT
DTSTART;TZID=America/Los_Angeles:20190126T090000
DTEND;TZID=America/Los_Angeles:20190126T120000
DTSTAMP:20260423T132638
CREATED:20190110T155320Z
LAST-MODIFIED:20190110T160134Z
UID:1153-1548493200-1548504000@wordoflifewctv.com
SUMMARY:Outreach
DESCRIPTION:Join us as we share the love of Jesus with our community.\nWe will meet at the church @ 9am.
URL:https://wordoflifewctv.com/event/outreach/
LOCATION:Word of Life Worship Center Temecula Valley\, 30033 Technology Dr. Suite 101\, Murrieta\, CA\, 92563\, United States
END:VEVENT
BEGIN:VEVENT
DTSTART;TZID=America/Los_Angeles:20190119T090000
DTEND;TZID=America/Los_Angeles:20190119T110000
DTSTAMP:20260423T132638
CREATED:20190110T155022Z
LAST-MODIFIED:20190110T160235Z
UID:1151-1547888400-1547895600@wordoflifewctv.com
SUMMARY:Prayer Walk
DESCRIPTION:Join us as we pull down strongholds and take the land for Jesus.\nWe will meet at the church @ 9am
URL:https://wordoflifewctv.com/event/prayer-walk/
LOCATION:Word of Life Worship Center Temecula Valley\, 30033 Technology Dr. Suite 101\, Murrieta\, CA\, 92563\, United States
END:VEVENT
BEGIN:VEVENT
DTSTART;TZID=America/Los_Angeles:20181215T120000
DTEND;TZID=America/Los_Angeles:20181215T120000
DTSTAMP:20260423T132638
CREATED:20181211T232159Z
LAST-MODIFIED:20181211T232528Z
UID:1072-1544875200-1544875200@wordoflifewctv.com
SUMMARY:Domestic Violence Awareness/Informational Event
DESCRIPTION:This is a women only event.
URL:https://wordoflifewctv.com/event/domestic-violence-awareness-informational-event/
LOCATION:Word of Life Worship Center Temecula Valley\, 30033 Technology Dr. Suite 101\, Murrieta\, CA\, 92563\, United States
END:VEVENT
END:VCALENDAR