BEGIN:VCALENDAR
VERSION:2.0
PRODID:-//Word of Life Worship Center - ECPv6.15.20//NONSGML v1.0//EN
CALSCALE:GREGORIAN
METHOD:PUBLISH
X-ORIGINAL-URL:https://wordoflifewctv.com
X-WR-CALDESC:Events for Word of Life Worship Center
REFRESH-INTERVAL;VALUE=DURATION:PT1H
X-Robots-Tag:noindex
X-PUBLISHED-TTL:PT1H
BEGIN:VTIMEZONE
TZID:America/Los_Angeles
BEGIN:DAYLIGHT
TZOFFSETFROM:-0800
TZOFFSETTO:-0700
TZNAME:PDT
DTSTART:20240310T100000
END:DAYLIGHT
BEGIN:STANDARD
TZOFFSETFROM:-0700
TZOFFSETTO:-0800
TZNAME:PST
DTSTART:20241103T090000
END:STANDARD
BEGIN:DAYLIGHT
TZOFFSETFROM:-0800
TZOFFSETTO:-0700
TZNAME:PDT
DTSTART:20250309T100000
END:DAYLIGHT
BEGIN:STANDARD
TZOFFSETFROM:-0700
TZOFFSETTO:-0800
TZNAME:PST
DTSTART:20251102T090000
END:STANDARD
BEGIN:DAYLIGHT
TZOFFSETFROM:-0800
TZOFFSETTO:-0700
TZNAME:PDT
DTSTART:20260308T100000
END:DAYLIGHT
BEGIN:STANDARD
TZOFFSETFROM:-0700
TZOFFSETTO:-0800
TZNAME:PST
DTSTART:20261101T090000
END:STANDARD
BEGIN:DAYLIGHT
TZOFFSETFROM:-0800
TZOFFSETTO:-0700
TZNAME:PDT
DTSTART:20270314T100000
END:DAYLIGHT
BEGIN:STANDARD
TZOFFSETFROM:-0700
TZOFFSETTO:-0800
TZNAME:PST
DTSTART:20271107T090000
END:STANDARD
END:VTIMEZONE
BEGIN:VTIMEZONE
TZID:UTC
BEGIN:STANDARD
TZOFFSETFROM:+0000
TZOFFSETTO:+0000
TZNAME:UTC
DTSTART:20240101T000000
END:STANDARD
END:VTIMEZONE
BEGIN:VEVENT
DTSTART;TZID=America/Los_Angeles:20250319T193000
DTEND;TZID=America/Los_Angeles:20250319T204500
DTSTAMP:20260425T061735
CREATED:20200120T210519Z
LAST-MODIFIED:20250313T173452Z
UID:1802-1742412600-1742417100@wordoflifewctv.com
SUMMARY:TEEN MINISTRY
DESCRIPTION:Join our teen ministry for a powerful time of relevant teaching and fun fellowship.
URL:https://wordoflifewctv.com/event/youth-group/
LOCATION:Word of Life Worship Center Temecula Valley\, 30033 Technology Dr. Suite 101\, Murrieta\, CA\, 92563\, United States
ATTACH;FMTTYPE=image/png:https://wordoflifewctv.com/wp-content/uploads/2024/08/teen.png
END:VEVENT
BEGIN:VEVENT
DTSTART;TZID=America/Los_Angeles:20250614T100000
DTEND;TZID=America/Los_Angeles:20250614T120000
DTSTAMP:20260425T061735
CREATED:20200127T192631Z
LAST-MODIFIED:20250602T190711Z
UID:1855-1749895200-1749902400@wordoflifewctv.com
SUMMARY:OUTREACH
DESCRIPTION:Join us we go into the community and share the love of Jesus. Let your light so shine before men\, that they may see your good works\, and glorify your father which is in heaven. (Matthew 5:16 KJV) \nMeet at the church at 10 am
URL:https://wordoflifewctv.com/event/outreach-3/
LOCATION:Word of Life Worship Center Temecula Valley\, 30033 Technology Dr. Suite 101\, Murrieta\, CA\, 92563\, United States
ATTACH;FMTTYPE=image/png:https://wordoflifewctv.com/wp-content/uploads/2020/01/Outreach-photo.png
END:VEVENT
BEGIN:VEVENT
DTSTART;TZID=UTC:20250816T090000
DTEND;TZID=UTC:20250816T150000
DTSTAMP:20260425T061735
CREATED:20180707T001548Z
LAST-MODIFIED:20250703T175914Z
UID:571-1755334800-1755356400@wordoflifewctv.com
SUMMARY:All Church Baptism
DESCRIPTION:
URL:https://wordoflifewctv.com/event/all-church-baptism/
LOCATION:Bonita Cove\, 1100 W Mission Bay Dr.\, San Diego\, Ca\, 92109\, United States
ATTACH;FMTTYPE=image/jpeg:https://wordoflifewctv.com/wp-content/uploads/2025/07/IMG_2110.jpeg
END:VEVENT
BEGIN:VEVENT
DTSTART;TZID=America/Los_Angeles:20260306T190000
DTEND;TZID=America/Los_Angeles:20260306T210000
DTSTAMP:20260425T061735
CREATED:20250203T201453Z
LAST-MODIFIED:20260216T025631Z
UID:4389-1772823600-1772830800@wordoflifewctv.com
SUMMARY:WOL Family Reunion Service - Pastor Miller
DESCRIPTION:We will be joining forces with our Word of Life Family of churches for a dynamic time of worship\, fellowship and anointed preaching.  Our founding Pastor\, Pastor T.L. Miller will be delivering the message and releasing the anointing.  You don’t want to miss it!  All are welcome.
URL:https://wordoflifewctv.com/event/wol-family-reunion-service-pastor-miller/
LOCATION:Word of Life Escondido\, 1711 East Valley Parkway\, Escondido\, CA\, 92027\, United States
ATTACH;FMTTYPE=image/jpeg:https://wordoflifewctv.com/wp-content/uploads/2026/02/Escondido-Service.jpeg
END:VEVENT
BEGIN:VEVENT
DTSTART;TZID=America/Los_Angeles:20260426T100000
DTEND;TZID=America/Los_Angeles:20260426T120000
DTSTAMP:20260425T061735
CREATED:20201127T191229Z
LAST-MODIFIED:20260420T184456Z
UID:2405-1777197600-1777204800@wordoflifewctv.com
SUMMARY:SUNDAY SERVICE
DESCRIPTION:Join us every Sunday @ 10 am for a powerful service. Child care is available.
URL:https://wordoflifewctv.com/event/sunday-service/
LOCATION:Word of Life Worship Center Temecula Valley\, 30033 Technology Dr. Suite 101\, Murrieta\, CA\, 92563\, United States
ATTACH;FMTTYPE=image/jpeg:https://wordoflifewctv.com/wp-content/uploads/2020/03/Pastors-Troy-and-Kim-Worshiping.jpg
END:VEVENT
BEGIN:VEVENT
DTSTART;TZID=America/Los_Angeles:20260429T193000
DTEND;TZID=America/Los_Angeles:20260429T204500
DTSTAMP:20260425T061735
CREATED:20200115T031358Z
LAST-MODIFIED:20260423T211210Z
UID:1788-1777491000-1777495500@wordoflifewctv.com
SUMMARY:WORD ON WEDNESDAY
DESCRIPTION:Join us for a powerful mid-week service @ 7:30 pm in the main sanctuary. Childcare is available.
URL:https://wordoflifewctv.com/event/word-on-wednesday/
LOCATION:Word of Life Worship Center Temecula Valley\, 30033 Technology Dr. Suite 101\, Murrieta\, CA\, 92563\, United States
CATEGORIES:Weekly Services
ATTACH;FMTTYPE=image/jpeg:https://wordoflifewctv.com/wp-content/uploads/2022/08/Word.jpg
END:VEVENT
BEGIN:VEVENT
DTSTART;TZID=America/Los_Angeles:20260505T190000
DTEND;TZID=America/Los_Angeles:20260505T203000
DTSTAMP:20260425T061735
CREATED:20210104T194545Z
LAST-MODIFIED:20260423T211704Z
UID:2483-1778007600-1778013000@wordoflifewctv.com
SUMMARY:MEN’S ROUNDTABLE
DESCRIPTION:Proverbs 27:17 KJV “Iron sharpeneth iron; so a man sharpeneth the countenance of his friend.”\nEcclesiastes 4:9-10 NLT “Two people are better off than one\, for they can help each other succeed. 10 If one person falls\, the other can reach out and help. But someone who falls alone is in real trouble.
URL:https://wordoflifewctv.com/event/mens-roundtable-2/
LOCATION:Word of Life Worship Center Temecula Valley\, 30033 Technology Dr. Suite 101\, Murrieta\, CA\, 92563\, United States
CATEGORIES:Special Events
ATTACH;FMTTYPE=image/png:https://wordoflifewctv.com/wp-content/uploads/2020/01/Mens-Roundtable.png
END:VEVENT
BEGIN:VEVENT
DTSTART;TZID=America/Los_Angeles:20260516T100000
DTEND;TZID=America/Los_Angeles:20260516T113000
DTSTAMP:20260425T061735
CREATED:20200121T205747Z
LAST-MODIFIED:20260420T184600Z
UID:1815-1778925600-1778931000@wordoflifewctv.com
SUMMARY:WOMEN'S TEA-TIME
DESCRIPTION:Join us as we fellowship\, bond and build each other up in the Lord. Who can find a virtuous woman? For her price is far above rubies (Proverbs 31:10) \n  \n 
URL:https://wordoflifewctv.com/event/womens-tea-time/
LOCATION:Word of Life Worship Center Temecula Valley\, 30033 Technology Dr. Suite 101\, Murrieta\, CA\, 92563\, United States
ATTACH;FMTTYPE=image/png:https://wordoflifewctv.com/wp-content/uploads/2020/01/Womens.png
END:VEVENT
END:VCALENDAR