BEGIN:VCALENDAR
VERSION:2.0
PRODID:-//Word of Life Worship Center - ECPv6.15.20//NONSGML v1.0//EN
CALSCALE:GREGORIAN
METHOD:PUBLISH
X-WR-CALNAME:Word of Life Worship Center
X-ORIGINAL-URL:https://wordoflifewctv.com
X-WR-CALDESC:Events for Word of Life Worship Center
REFRESH-INTERVAL;VALUE=DURATION:PT1H
X-Robots-Tag:noindex
X-PUBLISHED-TTL:PT1H
BEGIN:VTIMEZONE
TZID:America/Los_Angeles
BEGIN:DAYLIGHT
TZOFFSETFROM:-0800
TZOFFSETTO:-0700
TZNAME:PDT
DTSTART:20250309T100000
END:DAYLIGHT
BEGIN:STANDARD
TZOFFSETFROM:-0700
TZOFFSETTO:-0800
TZNAME:PST
DTSTART:20251102T090000
END:STANDARD
BEGIN:DAYLIGHT
TZOFFSETFROM:-0800
TZOFFSETTO:-0700
TZNAME:PDT
DTSTART:20260308T100000
END:DAYLIGHT
BEGIN:STANDARD
TZOFFSETFROM:-0700
TZOFFSETTO:-0800
TZNAME:PST
DTSTART:20261101T090000
END:STANDARD
BEGIN:DAYLIGHT
TZOFFSETFROM:-0800
TZOFFSETTO:-0700
TZNAME:PDT
DTSTART:20270314T100000
END:DAYLIGHT
BEGIN:STANDARD
TZOFFSETFROM:-0700
TZOFFSETTO:-0800
TZNAME:PST
DTSTART:20271107T090000
END:STANDARD
END:VTIMEZONE
BEGIN:VEVENT
DTSTART;TZID=America/Los_Angeles:20260422T193000
DTEND;TZID=America/Los_Angeles:20260422T204500
DTSTAMP:20260423T105105
CREATED:20200115T031358Z
LAST-MODIFIED:20260416T200441Z
UID:1788-1776886200-1776890700@wordoflifewctv.com
SUMMARY:WORD ON WEDNESDAY
DESCRIPTION:Join us for a powerful mid-week service @ 7:30 pm in the main sanctuary. Childcare is available.
URL:https://wordoflifewctv.com/event/word-on-wednesday/
LOCATION:Word of Life Worship Center Temecula Valley\, 30033 Technology Dr. Suite 101\, Murrieta\, CA\, 92563\, United States
CATEGORIES:Weekly Services
ATTACH;FMTTYPE=image/jpeg:https://wordoflifewctv.com/wp-content/uploads/2022/08/Word.jpg
END:VEVENT
END:VCALENDAR